BEGIN:VCALENDAR
VERSION:2.0
PRODID:-//Idaho Rebounds: Our Path to Prosperity - ECPv5.1.1//NONSGML v1.0//EN
CALSCALE:GREGORIAN
METHOD:PUBLISH
X-WR-CALNAME:Idaho Rebounds: Our Path to Prosperity
X-ORIGINAL-URL:https://rebound.idaho.gov
X-WR-CALDESC:Events for Idaho Rebounds: Our Path to Prosperity
BEGIN:VTIMEZONE
TZID:America/Boise
BEGIN:DAYLIGHT
TZOFFSETFROM:-0700
TZOFFSETTO:-0600
TZNAME:MDT
DTSTART:20200308T090000
END:DAYLIGHT
BEGIN:STANDARD
TZOFFSETFROM:-0600
TZOFFSETTO:-0700
TZNAME:MST
DTSTART:20201101T080000
END:STANDARD
END:VTIMEZONE
BEGIN:VEVENT
DTSTART;TZID=America/Boise:20200512T060000
DTEND;TZID=America/Boise:20200512T070000
DTSTAMP:20210523T060204
CREATED:20200511T181701Z
LAST-MODIFIED:20200511T181703Z
UID:339-1589263200-1589266800@rebound.idaho.gov
SUMMARY:AARP Telephone Town-hall
DESCRIPTION:\n\n\nGovernor Little will host a statewide AARP telephone town hall to provide information and answer questions regarding the coronavirus in Idaho. The hour-long conversation begins at 12 p.m. Mountain Time. Participants can join by dialing toll-free 866-767-0637 or register in advance by visiting https://vekeo.com/aarpidaho/. \n\n\n\n\n\n\n\n\n\n\n
URL:https://rebound.idaho.gov/event/aarp-telephone-town-hall-3/
END:VEVENT
END:VCALENDAR