BEGIN:VCALENDAR
VERSION:2.0
PRODID:-//Idaho Rebounds: Our Path to Prosperity - ECPv5.1.1//NONSGML v1.0//EN
CALSCALE:GREGORIAN
METHOD:PUBLISH
X-WR-CALNAME:Idaho Rebounds: Our Path to Prosperity
X-ORIGINAL-URL:https://rebound.idaho.gov
X-WR-CALDESC:Events for Idaho Rebounds: Our Path to Prosperity
BEGIN:VTIMEZONE
TZID:America/Boise
BEGIN:DAYLIGHT
TZOFFSETFROM:-0700
TZOFFSETTO:-0600
TZNAME:MDT
DTSTART:20200308T090000
END:DAYLIGHT
BEGIN:STANDARD
TZOFFSETFROM:-0600
TZOFFSETTO:-0700
TZNAME:MST
DTSTART:20201101T080000
END:STANDARD
END:VTIMEZONE
BEGIN:VEVENT
DTSTART;TZID=America/Boise:20201208T120000
DTEND;TZID=America/Boise:20201208T130000
DTSTAMP:20210430T002325
CREATED:20201207T232005Z
LAST-MODIFIED:20201207T232007Z
UID:735-1607428800-1607432400@rebound.idaho.gov
SUMMARY:AARP Telephone Town-hall with Gov. Brad Little
DESCRIPTION:\n\n\nGovernor Little will host a statewide AARP telephone town hall to provide information and answer questions regarding COVID-19 in Idaho. The hour-long conversation begins at 12 p.m. MT. Participants can join by dialing toll-free 866-767-0637 or register in advance by visiting https://vekeo.com/aarpidaho/.  \n\n\n\n\n\n\n\n\n\n\n
URL:https://rebound.idaho.gov/event/aarp-telephone-town-hall-with-gov-brad-little/
END:VEVENT
END:VCALENDAR