BEGIN:VCALENDAR
VERSION:2.0
PRODID:-//Idaho Rebounds: Our Path to Prosperity - ECPv5.1.1//NONSGML v1.0//EN
CALSCALE:GREGORIAN
METHOD:PUBLISH
X-WR-CALNAME:Idaho Rebounds: Our Path to Prosperity
X-ORIGINAL-URL:https://rebound.idaho.gov
X-WR-CALDESC:Events for Idaho Rebounds: Our Path to Prosperity
BEGIN:VTIMEZONE
TZID:America/Boise
BEGIN:DAYLIGHT
TZOFFSETFROM:-0700
TZOFFSETTO:-0600
TZNAME:MDT
DTSTART:20200308T090000
END:DAYLIGHT
BEGIN:STANDARD
TZOFFSETFROM:-0600
TZOFFSETTO:-0700
TZNAME:MST
DTSTART:20201101T080000
END:STANDARD
END:VTIMEZONE
BEGIN:VEVENT
DTSTART;TZID=America/Boise:20200903T140000
DTEND;TZID=America/Boise:20200903T160000
DTSTAMP:20210514T115754
CREATED:20200831T233947Z
LAST-MODIFIED:20200902T165750Z
UID:610-1599141600-1599148800@rebound.idaho.gov
SUMMARY:Coronavirus Financial Advisory Committee meeting
DESCRIPTION:\n\n\nCOVID-19 Financial Advisory Committee (CFAC) \n\n\n\nThursday\, September 3\, 2020 \n\n\n\n2:00 p.m. MT \n\n\n\nDial-in: 1-720-279-0026 \n\n\n\nPasscode: 282979 \n\n\n\nAGENDA \n\n\n\nWelcome – Alex J. Adams \n\n\n\nUpdate(s) and Action Item(s): \n\n\n\nDepartment of Labor Lost Wage AssistanceUnemployment Insurance Trust FundCouncil on Domestic Violence ProposalSpecial session follow up\n\n\n\nEstablish Next Meeting(s) \n\n\n\nPublic comments may be submitted to CFAC@dfm.idaho.gov \n\n\n\n\n\n\n\n\n\n\n
URL:https://rebound.idaho.gov/event/coronavirus-financial-advisory-committee-meeting-11/
END:VEVENT
END:VCALENDAR