BEGIN:VCALENDAR
VERSION:2.0
PRODID:-//Idaho Rebounds: Our Path to Prosperity - ECPv5.7.0//NONSGML v1.0//EN
CALSCALE:GREGORIAN
METHOD:PUBLISH
X-WR-CALNAME:Idaho Rebounds: Our Path to Prosperity
X-ORIGINAL-URL:https://rebound.idaho.gov
X-WR-CALDESC:Events for Idaho Rebounds: Our Path to Prosperity
BEGIN:VTIMEZONE
TZID:America/Boise
BEGIN:DAYLIGHT
TZOFFSETFROM:-0700
TZOFFSETTO:-0600
TZNAME:MDT
DTSTART:20210314T090000
END:DAYLIGHT
BEGIN:STANDARD
TZOFFSETFROM:-0600
TZOFFSETTO:-0700
TZNAME:MST
DTSTART:20211107T080000
END:STANDARD
END:VTIMEZONE
BEGIN:VEVENT
DTSTART;TZID=America/Boise:20210413T120000
DTEND;TZID=America/Boise:20210413T130000
DTSTAMP:20211001T021153
CREATED:20210409T230426Z
LAST-MODIFIED:20210409T230429Z
UID:822-1618315200-1618318800@rebound.idaho.gov
SUMMARY:AARP Telephone Town-hall on COVID-19 with Gov. Brad Little
DESCRIPTION:Governor Little will host a statewide AARP telephone town hall to provide information and answer questions regarding COVID-19 in Idaho. The hour-long conversation begins at 12 p.m. Participants can join by dialing toll-free 866-767-0637 or register in advance by visiting https://vekeo.com/aarpidaho/. 
URL:https://rebound.idaho.gov/event/aarp-telephone-town-hall-on-covid-19-with-gov-brad-little-9/
END:VEVENT
END:VCALENDAR